BEGIN:VCALENDAR
VERSION:2.0
PRODID:-//ExpressionEngine Easy iCalendar plugin//NONSGML v2.0.1//EN
X-WR-TIMEZONE:America/New_York
X-WR-CALNAME:Upcoming Auctions
BEGIN:VEVENT
UID:135179
DTSTAMP:20250207T142500
DTSTART:20250207T142500
DTEND:20250216T180000
SUMMARY:MOWER\, TOOLS AND HOUSEHOLD ITEMS ONLINE ONLY AUCTION
LOCATION:{location}
DESCRIPTION:Bidding will end on Sunday\, February 16th at 6:00PM.
URL:https://www.amlinauctions.com/auctions/detail/bw135179
SEQUENCE:1
END:VEVENT
END:VCALENDAR