BEGIN:VCALENDAR
VERSION:2.0
PRODID:-//ExpressionEngine Easy iCalendar plugin//NONSGML v2.0.1//EN
X-WR-TIMEZONE:America/New_York
X-WR-CALNAME:Upcoming Auctions
BEGIN:VEVENT
UID:135109
DTSTAMP:20250205T140900
DTSTART:20250205T140900
DTEND:20250212T180000
SUMMARY:JOHN DEERE\, TOOLS AND HOUSEHOLD ITEMS ONLINE ONLY AUCTION
LOCATION:7860 Airport Highway\, Holland\, OH 43528\, US
DESCRIPTION:Bidding will end on Wednesday\, February 12th at 6:00PM.  
URL:https://www.amlinauctions.com/auctions/detail/bw135109
SEQUENCE:1
END:VEVENT
END:VCALENDAR