BEGIN:VCALENDAR
VERSION:2.0
PRODID:-//ExpressionEngine Easy iCalendar plugin//NONSGML v2.0.1//EN
X-WR-TIMEZONE:America/New_York
X-WR-CALNAME:Upcoming Auctions
BEGIN:VEVENT
UID:134975
DTSTAMP:20250204T111300
DTSTART:20250204T111300
DTEND:20250210T180000
SUMMARY:TOOLS\, HIGH END FURNITURE AND HOUSEHOLD ITEMS ONLINE ONLY AU
 CTION
LOCATION:624 Kitlou Ct\, Holland\, OH 43528\, US
DESCRIPTION:Bidding will end on Monday\, February 10th at 6:00PM.  
URL:https://www.amlinauctions.com/auctions/detail/bw134975
SEQUENCE:1
END:VEVENT
END:VCALENDAR