BEGIN:VCALENDAR
VERSION:2.0
PRODID:-//ExpressionEngine Easy iCalendar plugin//NONSGML v2.0.1//EN
X-WR-TIMEZONE:America/New_York
X-WR-CALNAME:Upcoming Auctions
BEGIN:VEVENT
UID:134899
DTSTAMP:20250403T160000
DTSTART:20250403T160000
DTEND:20250403T170000
SUMMARY:MINIMUM BID AUCTION $95\,000! 13459 Main St.
LOCATION:13459 Main St.\, Weston\, OH 43569\, US
DESCRIPTION:3-bedroom ranch! 
URL:https://www.amlinauctions.com/auctions/detail/bw134899
SEQUENCE:1
END:VEVENT
END:VCALENDAR