BEGIN:VCALENDAR
VERSION:2.0
PRODID:-//ExpressionEngine Easy iCalendar plugin//NONSGML v2.0.1//EN
X-WR-TIMEZONE:America/New_York
X-WR-CALNAME:Upcoming Auctions
BEGIN:VEVENT
UID:134638
DTSTAMP:20250225T160000
DTSTART:20250225T160000
DTEND:20250225T170000
SUMMARY:SOLD PRIOR TO AUCTION! 4953 San Joaquin Dr
LOCATION:4953 San Joaquin Dr\, Toledo\, OH 43615\, US
DESCRIPTION:SOLD PRIOR TO AUCTION! 
URL:https://www.amlinauctions.com/auctions/detail/bw134638
SEQUENCE:1
END:VEVENT
END:VCALENDAR