BEGIN:VCALENDAR
VERSION:2.0
PRODID:-//ExpressionEngine Easy iCalendar plugin//NONSGML v2.0.1//EN
X-WR-TIMEZONE:America/New_York
X-WR-CALNAME:Upcoming Auctions
BEGIN:VEVENT
UID:134393
DTSTAMP:20250217T160000
DTSTART:20250217T160000
DTEND:20250217T170000
SUMMARY:SOLD PRIOR TO AUCTION! 313 E Main St
LOCATION:313 E Main St\, Risingsun\, OH 43430\, US
DESCRIPTION:SOLD PRIOR TO AUCTION! 
URL:https://www.amlinauctions.com/auctions/detail/bw134393
SEQUENCE:1
END:VEVENT
END:VCALENDAR