BEGIN:VCALENDAR
VERSION:2.0
PRODID:-//ExpressionEngine Easy iCalendar plugin//NONSGML v2.0.1//EN
X-WR-TIMEZONE:America/New_York
X-WR-CALNAME:Upcoming Auctions
BEGIN:VEVENT
UID:134341
DTSTAMP:20250213T160000
DTSTART:20250213T160000
DTEND:20250213T170000
SUMMARY:MINIMUM BID AUCTION $149\,000! 1660 N Cove Blvd.
LOCATION:1660 N Cove Blvd\, Toledo\, OH 43606\, US
DESCRIPTION:Duplex ready to rent near UT! 
URL:https://www.amlinauctions.com/auctions/detail/bw134341
SEQUENCE:1
END:VEVENT
END:VCALENDAR