BEGIN:VCALENDAR
VERSION:2.0
PRODID:-//ExpressionEngine Easy iCalendar plugin//NONSGML v2.0.1//EN
X-WR-TIMEZONE:America/New_York
X-WR-CALNAME:Upcoming Auctions
BEGIN:VEVENT
UID:134276
DTSTAMP:20250227T160000
DTSTART:20250227T160000
DTEND:20250227T170000
SUMMARY:POSTPONED UNTIL FURTHER NOTICE! 706 Wyman St
LOCATION:706 Wyman St\, Toledo\, OH 43609\, US
DESCRIPTION:POSTPONED UNTIL FURTHER NOTICE! 
URL:https://www.amlinauctions.com/auctions/detail/bw134276
SEQUENCE:1
END:VEVENT
END:VCALENDAR