BEGIN:VCALENDAR
VERSION:2.0
PRODID:-//ExpressionEngine Easy iCalendar plugin//NONSGML v2.0.1//EN
X-WR-TIMEZONE:America/New_York
X-WR-CALNAME:Upcoming Auctions
BEGIN:VEVENT
UID:134040
DTSTAMP:20250224T160000
DTSTART:20250224T160000
DTEND:20250224T170000
SUMMARY:MINIMUM BID AUCTION $499\,000! 14614 King Rd
LOCATION:14614 King Rd\, Bowling Green\, OH 43402\, US
DESCRIPTION:Unique Opportunity! 
URL:https://www.amlinauctions.com/auctions/detail/bw134040
SEQUENCE:1
END:VEVENT
END:VCALENDAR