BEGIN:VCALENDAR
VERSION:2.0
PRODID:-//ExpressionEngine Easy iCalendar plugin//NONSGML v2.0.1//EN
X-WR-TIMEZONE:America/New_York
X-WR-CALNAME:Upcoming Auctions
BEGIN:VEVENT
UID:133746
DTSTAMP:20250210T160000
DTSTART:20250210T160000
DTEND:20250210T170000
SUMMARY:SOLD PRIOR TO AUCTION! 1826 Bieber Dr
LOCATION:1826 Bieber Dr\, Northwood\, OH 43619\, US
DESCRIPTION:SOLD PRIOR TO AUCTION!
URL:https://www.amlinauctions.com/auctions/detail/bw133746
SEQUENCE:1
END:VEVENT
END:VCALENDAR