BEGIN:VCALENDAR
VERSION:2.0
PRODID:-//ExpressionEngine Easy iCalendar plugin//NONSGML v2.0.1//EN
X-WR-TIMEZONE:America/New_York
X-WR-CALNAME:Upcoming Auctions
BEGIN:VEVENT
UID:133705
DTSTAMP:20250129T160000
DTSTART:20250129T160000
DTEND:20250129T170000
SUMMARY:MINIMUM BID AUCTION $10\,000! 638 Knower St
LOCATION:638 Knower St\, Toledo\, OH 43609\, US
DESCRIPTION:Investment Opportunity!
URL:https://www.amlinauctions.com/auctions/detail/bw133705
SEQUENCE:1
END:VEVENT
END:VCALENDAR