BEGIN:VCALENDAR
VERSION:2.0
PRODID:-//ExpressionEngine Easy iCalendar plugin//NONSGML v2.0.1//EN
X-WR-TIMEZONE:America/New_York
X-WR-CALNAME:Upcoming Auctions
BEGIN:VEVENT
UID:133704
DTSTAMP:20250109T113400
DTSTART:20250109T113400
DTEND:20250115T180000
SUMMARY:BOXING EQUIPMENT ONLINE ONLY AUCTION
LOCATION:8605 Ponte Verdra\, Holland\, OH 43528\, US
DESCRIPTION:Online-Only Boxing Equipment Auction: Featuring a wide selec
 tion of new and used boxing gear and accessories. Bid on hig
 h-quality gloves\, punching bags\, training equipment and more
 ! Perfect for boxers\, trainers\, and fitness enthusiasts. Don
 ’t miss this chance to score premium items at unbeatable p
 rices. Auction ends soon – register and bid today! Bidding
  will end on Wednesday\, January 15th at 6:00PM. Auction prev
 iew will be Tuesday\, January 14th from 12:00PM till 1:00PM. 
 Load out will be Friday\, January 17th from 10:00AM till 1:0
 0PM. All items are located at 8605 Ponte Vedra\, Holland\, Ohi
 o\,43528.
URL:https://www.amlinauctions.com/auctions/detail/bw133704
SEQUENCE:1
END:VEVENT
END:VCALENDAR