BEGIN:VCALENDAR
VERSION:2.0
PRODID:-//ExpressionEngine Easy iCalendar plugin//NONSGML v2.0.1//EN
X-WR-TIMEZONE:America/New_York
X-WR-CALNAME:Upcoming Auctions
BEGIN:VEVENT
UID:133618
DTSTAMP:20251027T112200
DTSTART:20251027T112200
DTEND:20251110T180000
SUMMARY:TOOLS\, HUNTING GEAR AND NASCAR MEMORABILLIA ONLINE ONLY AUCT
 ION
LOCATION:2733 Edwin Street\, Oregon\, OH 43616\, US
DESCRIPTION:Discover incredible deals at our exclusive Online-Only aucti
 on featuring a wide variety of items for every enthusiast! B
 id on high-quality tools\, Hunting gear and a remarkable coll
 ection of NASCAR memorabilia. Whether you're a craftsman\, ou
 tdoorsman\, or motorsport fan\, there's something for everyone
 . Don't miss the opportunity to score unique items from the 
 comfort of your home. Be sure to check out the full catalog 
 and start bidding today!
URL:https://www.amlinauctions.com/auctions/detail/bw133618
SEQUENCE:1
END:VEVENT
END:VCALENDAR