BEGIN:VCALENDAR
VERSION:2.0
PRODID:-//ExpressionEngine Easy iCalendar plugin//NONSGML v2.0.1//EN
X-WR-TIMEZONE:America/New_York
X-WR-CALNAME:Upcoming Auctions
BEGIN:VEVENT
UID:133601
DTSTAMP:20250204T160000
DTSTART:20250204T160000
DTEND:20250204T170000
SUMMARY:MINIMUM BID AUCTION $100\,000!  4804 Eastwick Dr.
LOCATION:4804 Eastwick Dr\, Toledo\, OH 43614\, US
DESCRIPTION:4-bedroom 2.5 bath home on a corner lot! 
URL:https://www.amlinauctions.com/auctions/detail/bw133601
SEQUENCE:1
END:VEVENT
END:VCALENDAR