BEGIN:VCALENDAR
VERSION:2.0
PRODID:-//ExpressionEngine Easy iCalendar plugin//NONSGML v2.0.1//EN
X-WR-TIMEZONE:America/New_York
X-WR-CALNAME:Upcoming Auctions
BEGIN:VEVENT
UID:133600
DTSTAMP:20250205T160000
DTSTART:20250205T160000
DTEND:20250205T170000
SUMMARY:MINIMUM BID AUCTION $19\,000! 914 Moore St
LOCATION:914 Moore St\, Toledo\, OH 43608\, US
DESCRIPTION:Large Lot!
URL:https://www.amlinauctions.com/auctions/detail/bw133600
SEQUENCE:1
END:VEVENT
END:VCALENDAR