BEGIN:VCALENDAR
VERSION:2.0
PRODID:-//ExpressionEngine Easy iCalendar plugin//NONSGML v2.0.1//EN
X-WR-TIMEZONE:America/New_York
X-WR-CALNAME:Upcoming Auctions
BEGIN:VEVENT
UID:133416
DTSTAMP:20250120T160000
DTSTART:20250120T160000
DTEND:20250120T170000
SUMMARY:SOLD PRIOR TO AUCTION! 1747 S Cove Blvd
LOCATION:1747 S Cove Blvd\, Toledo\, OH 43606\, US
DESCRIPTION:SOLD PRIOR TO AUCTION
URL:https://www.amlinauctions.com/auctions/detail/bw133416
SEQUENCE:1
END:VEVENT
END:VCALENDAR