BEGIN:VCALENDAR
VERSION:2.0
PRODID:-//ExpressionEngine Easy iCalendar plugin//NONSGML v2.0.1//EN
X-WR-TIMEZONE:America/New_York
X-WR-CALNAME:Upcoming Auctions
BEGIN:VEVENT
UID:133330
DTSTAMP:20250128T130000
DTSTART:20250128T130000
DTEND:20250128T140000
SUMMARY:STOP N LOCK STORAGE AUCTIONS!
LOCATION:5544 Jackman Rd\, Toledo\, OH 43613\, US
DESCRIPTION:2 Locations!
URL:https://www.amlinauctions.com/auctions/detail/bw133330
SEQUENCE:1
END:VEVENT
END:VCALENDAR