BEGIN:VCALENDAR
VERSION:2.0
PRODID:-//ExpressionEngine Easy iCalendar plugin//NONSGML v2.0.1//EN
X-WR-TIMEZONE:America/New_York
X-WR-CALNAME:Upcoming Auctions
BEGIN:VEVENT
UID:133219
DTSTAMP:20250114T160000
DTSTART:20250114T160000
DTEND:20250114T170000
SUMMARY:SOLD PRIOR TO AUCTION! 427 Bronson
LOCATION:427 Bronson Ave\, Toledo\, OH 43608\, US
DESCRIPTION:SOLD PRIOR TO AUCTION!
URL:https://www.amlinauctions.com/auctions/detail/bw133219
SEQUENCE:1
END:VEVENT
END:VCALENDAR