BEGIN:VCALENDAR
VERSION:2.0
PRODID:-//ExpressionEngine Easy iCalendar plugin//NONSGML v2.0.1//EN
X-WR-TIMEZONE:America/New_York
X-WR-CALNAME:Upcoming Auctions
BEGIN:VEVENT
UID:133040
DTSTAMP:20250113T160000
DTSTART:20250113T160000
DTEND:20250113T170000
SUMMARY:MINIMUM BID AUCTION $99\,000! 218 White St
LOCATION:218 White St\, Blissfield\, MI 49228\, US
DESCRIPTION:4 Bedrooms!
URL:https://www.amlinauctions.com/auctions/detail/bw133040
SEQUENCE:1
END:VEVENT
END:VCALENDAR