BEGIN:VCALENDAR
VERSION:2.0
PRODID:-//ExpressionEngine Easy iCalendar plugin//NONSGML v2.0.1//EN
X-WR-TIMEZONE:America/New_York
X-WR-CALNAME:Upcoming Auctions
BEGIN:VEVENT
UID:132868
DTSTAMP:20250109T160000
DTSTART:20250109T160000
DTEND:20250109T170000
SUMMARY:SOLD PRIOR TO AUCTION! 1712 Georgia
LOCATION:1712 Georgia\, Toledo\, OH 43613\, US
DESCRIPTION:SOLD PRIOR TO AUCTION! 
URL:https://www.amlinauctions.com/auctions/detail/bw132868
SEQUENCE:1
END:VEVENT
END:VCALENDAR