BEGIN:VCALENDAR
VERSION:2.0
PRODID:-//ExpressionEngine Easy iCalendar plugin//NONSGML v2.0.1//EN
X-WR-TIMEZONE:America/New_York
X-WR-CALNAME:Upcoming Auctions
BEGIN:VEVENT
UID:132476
DTSTAMP:20250122T160000
DTSTART:20250122T160000
DTEND:20250122T170000
SUMMARY:POSTPONED UNTIL FURTHER NOTICE! 2733 Edwin St
LOCATION:2733 Edwin St\, Oregon\, OH 43616\, US
DESCRIPTION:POSTPONED UNTIL FURTHER NOTICE!
URL:https://www.amlinauctions.com/auctions/detail/bw132476
SEQUENCE:1
END:VEVENT
END:VCALENDAR