BEGIN:VCALENDAR
VERSION:2.0
PRODID:-//ExpressionEngine Easy iCalendar plugin//NONSGML v2.0.1//EN
X-WR-TIMEZONE:America/New_York
X-WR-CALNAME:Upcoming Auctions
BEGIN:VEVENT
UID:132020
DTSTAMP:20241218T160000
DTSTART:20241218T160000
DTEND:20241218T170000
SUMMARY:MINIMUM BID AUCTION $170\,000! 111 East St.
LOCATION:111 N East St\, Liberty Center \, OH 43532\, US
DESCRIPTION:Commercial property with 2 residential units! 
URL:https://www.amlinauctions.com/auctions/detail/bw132020
SEQUENCE:1
END:VEVENT
END:VCALENDAR