BEGIN:VCALENDAR
VERSION:2.0
PRODID:-//ExpressionEngine Easy iCalendar plugin//NONSGML v2.0.1//EN
X-WR-TIMEZONE:America/New_York
X-WR-CALNAME:Upcoming Auctions
BEGIN:VEVENT
UID:132012
DTSTAMP:20250102T160000
DTSTART:20250102T160000
DTEND:20250102T170000
SUMMARY:MINIMUM BID AUCTION $49\,999! 659 E Broadway
LOCATION:659 E Broadway St\, Toledo\, OH 43605\, US
DESCRIPTION:Commercial Building!
URL:https://www.amlinauctions.com/auctions/detail/bw132012
SEQUENCE:1
END:VEVENT
END:VCALENDAR