BEGIN:VCALENDAR
VERSION:2.0
PRODID:-//ExpressionEngine Easy iCalendar plugin//NONSGML v2.0.1//EN
X-WR-TIMEZONE:America/New_York
X-WR-CALNAME:Upcoming Auctions
BEGIN:VEVENT
UID:131914
DTSTAMP:20250107T160000
DTSTART:20250107T160000
DTEND:20250107T170000
SUMMARY:MINIMUM BID AUCTION $25\,000! 1723 Stahlwood
LOCATION:1723 Stahlwood Ave\, Toledo\, OH 43613\, US
DESCRIPTION:4-bedroom home! 
URL:https://www.amlinauctions.com/auctions/detail/bw131914
SEQUENCE:1
END:VEVENT
END:VCALENDAR