BEGIN:VCALENDAR
VERSION:2.0
PRODID:-//ExpressionEngine Easy iCalendar plugin//NONSGML v2.0.1//EN
X-WR-TIMEZONE:America/New_York
X-WR-CALNAME:Upcoming Auctions
BEGIN:VEVENT
UID:131680
DTSTAMP:20241212T160000
DTSTART:20241212T160000
DTEND:20241212T170000
SUMMARY:MINIMUM BID AUCTION $79\,000! 1202 Smith Rd
LOCATION:1202 Smith Rd\, Temperance\, MI 48182\, US
DESCRIPTION:Investment Opportunity!
URL:https://www.amlinauctions.com/auctions/detail/bw131680
SEQUENCE:1
END:VEVENT
END:VCALENDAR