BEGIN:VCALENDAR
VERSION:2.0
PRODID:-//ExpressionEngine Easy iCalendar plugin//NONSGML v2.0.1//EN
X-WR-TIMEZONE:America/New_York
X-WR-CALNAME:Upcoming Auctions
BEGIN:VEVENT
UID:131448
DTSTAMP:20241118T070200
DTSTART:20241118T070200
DTEND:20241125T180000
SUMMARY:TRACTOR\, TOOLS AND HOUSEHOLD ITEMS ONLINE ONLY AUCTION
LOCATION:3729 Devils Hole Rd\, Luckey\, OH 43443\, US
DESCRIPTION:Join us for an exclusive online-only auction featuring a wid
 e range of items to suit every need! Highlights include a Ne
 w Holland tractor\, a selection of essential tools\, quality f
 urniture for any style\, and a variety of household items per
 fect for everyday use. Don’t miss this opportunity to bid 
 from the comfort of your home. Browse the full catalog\, plac
 e your bids\, and secure great deals today! Bidding will end 
 on Monday\, November 25th at 6:00PM. Auction preview will be
  Monday\, November 25th from 11:00 AM till Noon. Load out wi
 ll be Wednesday\, November 27th from 10:00AM till 1:00PM. All
  items are located at 3729 Devils Hole rd\, Luckey\, Ohio\, 434
 43.
URL:https://www.amlinauctions.com/auctions/detail/bw131448
SEQUENCE:1
END:VEVENT
END:VCALENDAR