BEGIN:VCALENDAR
VERSION:2.0
PRODID:-//ExpressionEngine Easy iCalendar plugin//NONSGML v2.0.1//EN
X-WR-TIMEZONE:America/New_York
X-WR-CALNAME:Upcoming Auctions
BEGIN:VEVENT
UID:131413
DTSTAMP:20241210T160000
DTSTART:20241210T160000
DTEND:20241210T170000
SUMMARY:SOLD PRIOR TO AUCTION! ! 2644 Kenwood Blvd
LOCATION:2644 Kenwood Blvd\, Toledo\, OH 43606\, US
DESCRIPTION:SOLD PRIOR TO AUCTION! 
URL:https://www.amlinauctions.com/auctions/detail/bw131413
SEQUENCE:1
END:VEVENT
END:VCALENDAR