BEGIN:VCALENDAR
VERSION:2.0
PRODID:-//ExpressionEngine Easy iCalendar plugin//NONSGML v2.0.1//EN
X-WR-TIMEZONE:America/New_York
X-WR-CALNAME:Upcoming Auctions
BEGIN:VEVENT
UID:131306
DTSTAMP:20241114T141500
DTSTART:20241114T141500
DTEND:20241124T180000
SUMMARY:CAR AND ANTIQUE FURNITURE ONLINE ONLY AUCTION
LOCATION:4508 Holland-Sylvania Rd\, Sylvania\, OH 43623\, US
DESCRIPTION:Join us for an exciting online-only auction featuring a well
 -maintained Nissan Sentra and a selection of vintage furnitu
 re to add character to any home! Bidding will end on Sunday
 \, November 24th at 6:00PM. Auction preview will be Wednesda
 y\, November 20th from 1:00 PM till 2:00PM. Load out will b
 e Tuesday\, November 26th from 10:00AM till 1:00PM. All item
 s are located at 4508 Holland-Sylvania Rd\, Sylvania\, Ohio\, 
URL:https://www.amlinauctions.com/auctions/detail/bw131306
SEQUENCE:1
END:VEVENT
END:VCALENDAR