BEGIN:VCALENDAR
VERSION:2.0
PRODID:-//ExpressionEngine Easy iCalendar plugin//NONSGML v2.0.1//EN
X-WR-TIMEZONE:America/New_York
X-WR-CALNAME:Upcoming Auctions
BEGIN:VEVENT
UID:131227
DTSTAMP:20241204T150000
DTSTART:20241204T150000
DTEND:20241204T160000
SUMMARY:AIRPORT RENT A SPACE
LOCATION:11100 Airport Hwy\, Swanton\, OH 43558\, US
DESCRIPTION:2 Units
URL:https://www.amlinauctions.com/auctions/detail/bw131227
SEQUENCE:1
END:VEVENT
END:VCALENDAR