BEGIN:VCALENDAR
VERSION:2.0
PRODID:-//ExpressionEngine Easy iCalendar plugin//NONSGML v2.0.1//EN
X-WR-TIMEZONE:America/New_York
X-WR-CALNAME:Upcoming Auctions
BEGIN:VEVENT
UID:131150
DTSTAMP:20241209T160000
DTSTART:20241209T160000
DTEND:20241209T170000
SUMMARY:MINIMUM BID AUCTION $25\,000! 704 Boalt St
LOCATION:704 Boalt St\, Toledo\, OH 43609\, US
DESCRIPTION:4 beds!
URL:https://www.amlinauctions.com/auctions/detail/bw131150
SEQUENCE:1
END:VEVENT
END:VCALENDAR