BEGIN:VCALENDAR
VERSION:2.0
PRODID:-//ExpressionEngine Easy iCalendar plugin//NONSGML v2.0.1//EN
X-WR-TIMEZONE:America/New_York
X-WR-CALNAME:Upcoming Auctions
BEGIN:VEVENT
UID:131079
DTSTAMP:20241111T154100
DTSTART:20241111T154100
DTEND:20241120T180000
SUMMARY:TRACTOR\, TOOLS AND HOUSEHOLD ITEMS ONLINE ONLY AUCTION
LOCATION:20526 Caris Rd\, Bowling Green\, OH 43402\, US
DESCRIPTION:Donâ€™t miss out on a unique collection of items for auction
 ! This online-only sale includes an assortment of well-maint
 ained equipment\, tools\, and quality household furniture. Whe
 ther youâ€™re a hobbyist\, home improver\, or simply looking t
 o furnish your space\, this auction has something for you. Ke
 y Items: Â Â  Â â€¢Â Â  Â Ford Tractor â€“ A reliable\, durab
 le model ideal for small farms\, landscaping\, or property mai
 ntenance. Runs well and ready for your projects. Â Â  Â â€¢Â
  Â  Â Tools â€“ A variety of hand and power tools in great c
 ondition\, perfect for your workshop or garage. Includes wren
 ches\, drills\, saws\, and more. Â Â  Â â€¢Â Â  Â Welder â€“ Hi
 gh-quality welder for metalwork projects\, suitable for profe
 ssionals and DIY enthusiasts alike. Â Â  Â â€¢Â Â  Â Househo
 ld Furniture â€“ Beautiful pieces to complement any home\, fr
 om sofas and dining sets to bedroom furniture. Stylish and w
 ell-cared-for items that can add warmth to your living space
 s. Register now to place your bids and secure these excellen
 t items!
URL:https://www.amlinauctions.com/auctions/detail/bw131079
SEQUENCE:1
END:VEVENT
END:VCALENDAR