BEGIN:VCALENDAR
VERSION:2.0
PRODID:-//ExpressionEngine Easy iCalendar plugin//NONSGML v2.0.1//EN
X-WR-TIMEZONE:America/New_York
X-WR-CALNAME:Upcoming Auctions
BEGIN:VEVENT
UID:131046
DTSTAMP:20241211T160000
DTSTART:20241211T160000
DTEND:20241211T170000
SUMMARY:SOLD PRIOR TO AUCTION! 11884 County Rd C
LOCATION:{location}
DESCRIPTION:SOLD PRIOR TO AUCTION! 
URL:https://www.amlinauctions.com/auctions/detail/bw131046
SEQUENCE:1
END:VEVENT
END:VCALENDAR