BEGIN:VCALENDAR
VERSION:2.0
PRODID:-//ExpressionEngine Easy iCalendar plugin//NONSGML v2.0.1//EN
X-WR-TIMEZONE:America/New_York
X-WR-CALNAME:Upcoming Auctions
BEGIN:VEVENT
UID:131043
DTSTAMP:20241202T160000
DTSTART:20241202T160000
DTEND:20241202T170000
SUMMARY:SOLD PRIOR TO AUCITON! 4328 Bayshore Rd
LOCATION:4328 Bayshore Rd\, Oregon\, OH 43616\, US
DESCRIPTION:SOLD PRIOR TO AUCTION!
URL:https://www.amlinauctions.com/auctions/detail/bw131043
SEQUENCE:1
END:VEVENT
END:VCALENDAR