BEGIN:VCALENDAR
VERSION:2.0
PRODID:-//ExpressionEngine Easy iCalendar plugin//NONSGML v2.0.1//EN
X-WR-TIMEZONE:America/New_York
X-WR-CALNAME:Upcoming Auctions
BEGIN:VEVENT
UID:130892
DTSTAMP:20241205T160000
DTSTART:20241205T160000
DTEND:20241205T170000
SUMMARY:MINIMUM BID AUCTION $149\,000! 2515 Densmore Dr
LOCATION:2515 Densmore Dr\, Toledo\, OH 43606\, US
DESCRIPTION:Great Location!
URL:https://www.amlinauctions.com/auctions/detail/bw130892
SEQUENCE:1
END:VEVENT
END:VCALENDAR