BEGIN:VCALENDAR
VERSION:2.0
PRODID:-//ExpressionEngine Easy iCalendar plugin//NONSGML v2.0.1//EN
X-WR-TIMEZONE:America/New_York
X-WR-CALNAME:Upcoming Auctions
BEGIN:VEVENT
UID:130855
DTSTAMP:20241106T173100
DTSTART:20241106T173100
DTEND:20241111T180000
SUMMARY:ARCADE GAMES\, BASKETS\, TOOLS\, FURNITURE AND HOUSEHOLD ITEMS 
 ONLINE ONLY AUCTION
LOCATION:7733 BROWN RD\, CURTICE\, OH 43412\, US
DESCRIPTION:Join us for an exciting online-only auction featuring a wide
  variety of items for everyone! Whether youâ€™re a collector
 \, a DIY enthusiast\, or just looking to add something special
  to your home\, this auction has it all. Discover an impressi
 ve selection of arcade games\, perfect for creating a fun hom
 e arcade\, plus quality tools for your next project\, stylish 
 and functional furniture for every room\, and a range of hous
 ehold items to complete your space. Featured Items: Â Â  Â â
 €¢Â Â  Â Arcade Games â€“ Classic and modern options to leve
 l up your game room Â Â  Â â€¢Â Â  Â Tools â€“ Power tools\, 
 hand tools\, and more for all your DIY needs Â Â  Â â€¢Â Â  Â
  Furniture â€“ Couches\, tables\, chairs\, storage solutions\, a
 nd more Â Â  Â â€¢Â Â  Â Household Items â€“ Kitchenware\, de
 cor\, electronics\, and other essentials Don't miss yourÂ chan
 ce to score great deals on a variety of items! Register now\,
  browse the catalog\, and get ready to bid.Â  Bidding will en
 d on Monday\, NovemberÂ 11thÂ at 6:00PM. Auction preview will
  be Monday\, NovemberÂ 11th from 11:00AM till 12:00PM. Load o
 ut will be Wednesday\, NovemberÂ 13thÂ from 10:00AM till 1:00
 PM. All items are located at 7733 Brown Rd\, Curtice\, Ohio\, 4
 3412. Â 
URL:https://www.amlinauctions.com/auctions/detail/bw130855
SEQUENCE:1
END:VEVENT
END:VCALENDAR