BEGIN:VCALENDAR
VERSION:2.0
PRODID:-//ExpressionEngine Easy iCalendar plugin//NONSGML v2.0.1//EN
X-WR-TIMEZONE:America/New_York
X-WR-CALNAME:Upcoming Auctions
BEGIN:VEVENT
UID:130735
DTSTAMP:20241105T094100
DTSTART:20241105T094100
DTEND:20241117T150000
SUMMARY:MACHINES\, TOOLS\, ARTS AND CRAFTS\, AND HOUSEHOLD ITEMS ONLINE
  ONLY AUCTION
LOCATION:1234 N Main Street\, Bowling green \, OH 43402\, US
DESCRIPTION:Don't miss this online only auction with a wide selection of
  items\, Including: -CNC equipment: ROuters\, CNC machines\, la
 sers. -3D printers -Tools -Household items and furniture. Pe
 rfect auction for hobbyists\, DYI enthusiasts\, and profession
 als. Be sure to place your bids early and often! Bidding wil
 l end on Sunday\, November 17th at 3:00PM. Auction preview w
 ill be Tuesday\, November 12th from 11:00PM till 1:00PM. Loa
 d out will be Tuesday\, November 19th from 10:00AM till 3:00P
 M. All items are located at 1234 N Main St\, Bowling Green\, O
 hio\, 43402.
URL:https://www.amlinauctions.com/auctions/detail/bw130735
SEQUENCE:1
END:VEVENT
END:VCALENDAR