BEGIN:VCALENDAR
VERSION:2.0
PRODID:-//ExpressionEngine Easy iCalendar plugin//NONSGML v2.0.1//EN
X-WR-TIMEZONE:America/New_York
X-WR-CALNAME:Upcoming Auctions
BEGIN:VEVENT
UID:130578
DTSTAMP:20241203T160000
DTSTART:20241203T160000
DTEND:20241203T170000
SUMMARY:MINIMUM BID AUCTION $19\,000! 216 W Jackson St
LOCATION:216 W Jackson St\, Fostoria\, OH 44830\, US
DESCRIPTION:Investment Opportunity!
URL:https://www.amlinauctions.com/auctions/detail/bw130578
SEQUENCE:1
END:VEVENT
END:VCALENDAR