BEGIN:VCALENDAR
VERSION:2.0
PRODID:-//ExpressionEngine Easy iCalendar plugin//NONSGML v2.0.1//EN
X-WR-TIMEZONE:America/New_York
X-WR-CALNAME:Upcoming Auctions
BEGIN:VEVENT
UID:130560
DTSTAMP:20241125T130000
DTSTART:20241125T130000
DTEND:20241125T140000
SUMMARY:OUTBACK SELF STORAGE AUCTIONS!
LOCATION:6600 N Mall Dr\, Holland\, OH 43528\, US
DESCRIPTION:1 Location!
URL:https://www.amlinauctions.com/auctions/detail/bw130560
SEQUENCE:1
END:VEVENT
END:VCALENDAR