BEGIN:VCALENDAR
VERSION:2.0
PRODID:-//ExpressionEngine Easy iCalendar plugin//NONSGML v2.0.1//EN
X-WR-TIMEZONE:America/New_York
X-WR-CALNAME:Upcoming Auctions
BEGIN:VEVENT
UID:130556
DTSTAMP:20241125T150000
DTSTART:20241125T150000
DTEND:20241125T160000
SUMMARY:SOLD PRIOR TO AUCTION! 1024 Coventry Ave.
LOCATION:1024 Coventry Ave.\, Toledo\, OH 43607\, US
DESCRIPTION:SOLD PRIOR TO AUCTION 
URL:https://www.amlinauctions.com/auctions/detail/bw130556
SEQUENCE:1
END:VEVENT
END:VCALENDAR