BEGIN:VCALENDAR
VERSION:2.0
PRODID:-//ExpressionEngine Easy iCalendar plugin//NONSGML v2.0.1//EN
X-WR-TIMEZONE:America/New_York
X-WR-CALNAME:Upcoming Auctions
BEGIN:VEVENT
UID:130475
DTSTAMP:20241118T160000
DTSTART:20241118T160000
DTEND:20241118T170000
SUMMARY:MINIMUM BID AUCTION $160\,000! 32430 Tecla Dr
LOCATION:32430 Tecla Drive\, Warren\, MI 48088\, US
DESCRIPTION:3-bedroom home in Warren\, MI! 
URL:https://www.amlinauctions.com/auctions/detail/bw130475
SEQUENCE:1
END:VEVENT
END:VCALENDAR