BEGIN:VCALENDAR
VERSION:2.0
PRODID:-//ExpressionEngine Easy iCalendar plugin//NONSGML v2.0.1//EN
X-WR-TIMEZONE:America/New_York
X-WR-CALNAME:Upcoming Auctions
BEGIN:VEVENT
UID:130396
DTSTAMP:20241125T160000
DTSTART:20241125T160000
DTEND:20241125T170000
SUMMARY:MINIMUM BID AUCTION $249\,000! 408 Floyd St
LOCATION:408 Floyd St\, Toledo\, OH 43620\, US
DESCRIPTION:Updated 5 unit multifamily!
URL:https://www.amlinauctions.com/auctions/detail/bw130396
SEQUENCE:1
END:VEVENT
END:VCALENDAR