BEGIN:VCALENDAR
VERSION:2.0
PRODID:-//ExpressionEngine Easy iCalendar plugin//NONSGML v2.0.1//EN
X-WR-TIMEZONE:America/New_York
X-WR-CALNAME:Upcoming Auctions
BEGIN:VEVENT
UID:130370
DTSTAMP:20241126T160000
DTSTART:20241126T160000
DTEND:20241126T170000
SUMMARY:SOLD PRIOR TO AUCTION! 4508 N Holland Sylvania
LOCATION:4508 N Holland Sylvania Rd\, Sylvania\, OH 43623\, US
DESCRIPTION:SOLD PRIOR TO AUCTION! 
URL:https://www.amlinauctions.com/auctions/detail/bw130370
SEQUENCE:1
END:VEVENT
END:VCALENDAR