BEGIN:VCALENDAR
VERSION:2.0
PRODID:-//ExpressionEngine Easy iCalendar plugin//NONSGML v2.0.1//EN
X-WR-TIMEZONE:America/New_York
X-WR-CALNAME:Upcoming Auctions
BEGIN:VEVENT
UID:130040
DTSTAMP:20241113T170000
DTSTART:20241113T170000
DTEND:20241113T180000
SUMMARY:SOLD PRIOR TO AUCTION! 3928 Bellevue Rd
LOCATION:3928 Bellevue Rd\, Toledo\, OH 43613\, US
DESCRIPTION:SOLD PRIOR TO AUCTION! 
URL:https://www.amlinauctions.com/auctions/detail/bw130040
SEQUENCE:1
END:VEVENT
END:VCALENDAR