BEGIN:VCALENDAR
VERSION:2.0
PRODID:-//ExpressionEngine Easy iCalendar plugin//NONSGML v2.0.1//EN
X-WR-TIMEZONE:America/New_York
X-WR-CALNAME:Upcoming Auctions
BEGIN:VEVENT
UID:129970
DTSTAMP:20241121T160000
DTSTART:20241121T160000
DTEND:20241121T170000
SUMMARY:MINIMUM BID AUCTION $99\,000! 5917 Roan Rd
LOCATION:5917 Roan Rd\, Sylvania\, OH 43560\, US
DESCRIPTION:Sylvania Schools!
URL:https://www.amlinauctions.com/auctions/detail/bw129970
SEQUENCE:1
END:VEVENT
END:VCALENDAR