BEGIN:VCALENDAR
VERSION:2.0
PRODID:-//ExpressionEngine Easy iCalendar plugin//NONSGML v2.0.1//EN
X-WR-TIMEZONE:America/New_York
X-WR-CALNAME:Upcoming Auctions
BEGIN:VEVENT
UID:129636
DTSTAMP:20241119T160000
DTSTART:20241119T160000
DTEND:20241119T170000
SUMMARY:MINIMUM BID AUCTION $99\,000! 121 N Fulton St
LOCATION:121 N Fulton St\, Wauseon\, OH 43567\, US
DESCRIPTION:Commercial Property!
URL:https://www.amlinauctions.com/auctions/detail/bw129636
SEQUENCE:1
END:VEVENT
END:VCALENDAR