BEGIN:VCALENDAR
VERSION:2.0
PRODID:-//ExpressionEngine Easy iCalendar plugin//NONSGML v2.0.1//EN
X-WR-TIMEZONE:America/New_York
X-WR-CALNAME:Upcoming Auctions
BEGIN:VEVENT
UID:129318
DTSTAMP:20241111T150000
DTSTART:20241111T150000
DTEND:20241111T160000
SUMMARY:Postponed! 2111 Glenwood Ave
LOCATION:2111 Glenwood Ave\, Toledo\, OH 43620\, US
DESCRIPTION:Postponed!
URL:https://www.amlinauctions.com/auctions/detail/bw129318
SEQUENCE:1
END:VEVENT
END:VCALENDAR