BEGIN:VCALENDAR
VERSION:2.0
PRODID:-//ExpressionEngine Easy iCalendar plugin//NONSGML v2.0.1//EN
X-WR-TIMEZONE:America/New_York
X-WR-CALNAME:Upcoming Auctions
BEGIN:VEVENT
UID:129273
DTSTAMP:20241111T160000
DTSTART:20241111T160000
DTEND:20241111T170000
SUMMARY:MINIMUM BID AUCTION $199\,000! 2051 Collingwood
LOCATION:2051 Collingwood Blvd\, Toledo\, OH 43620\, US
DESCRIPTION:Great Commercial Investment Opportunity! 
URL:https://www.amlinauctions.com/auctions/detail/bw129273
SEQUENCE:1
END:VEVENT
END:VCALENDAR