BEGIN:VCALENDAR
VERSION:2.0
PRODID:-//ExpressionEngine Easy iCalendar plugin//NONSGML v2.0.1//EN
X-WR-TIMEZONE:America/New_York
X-WR-CALNAME:Upcoming Auctions
BEGIN:VEVENT
UID:129189
DTSTAMP:20241114T160000
DTSTART:20241114T160000
DTEND:20241114T170000
SUMMARY:MINIMUM BID AUCTION $99\,000! 2650 GARY DR
LOCATION:2650 Gary Dr\, Erie\, MI 48133\, US
DESCRIPTION:Waterfront property!
URL:https://www.amlinauctions.com/auctions/detail/bw129189
SEQUENCE:1
END:VEVENT
END:VCALENDAR