BEGIN:VCALENDAR
VERSION:2.0
PRODID:-//ExpressionEngine Easy iCalendar plugin//NONSGML v2.0.1//EN
X-WR-TIMEZONE:America/New_York
X-WR-CALNAME:Upcoming Auctions
BEGIN:VEVENT
UID:128875
DTSTAMP:20241104T160000
DTSTART:20241104T160000
DTEND:20241104T170000
SUMMARY:MINIMUM BID AUCTION $175\,000! 13327 County Rd 2
LOCATION:13327 County Road 2\, Swanton \, OH 43558\, US
DESCRIPTION:Over an acre! 
URL:https://www.amlinauctions.com/auctions/detail/bw128875
SEQUENCE:1
END:VEVENT
END:VCALENDAR