BEGIN:VCALENDAR
VERSION:2.0
PRODID:-//ExpressionEngine Easy iCalendar plugin//NONSGML v2.0.1//EN
X-WR-TIMEZONE:America/New_York
X-WR-CALNAME:Upcoming Auctions
BEGIN:VEVENT
UID:128857
DTSTAMP:20241107T160000
DTSTART:20241107T160000
DTEND:20241107T170000
SUMMARY:MINIMUM BID AUCTION $99\,000! 616 E Oak St
LOCATION:616 E Oak St\, Wauseon\, OH 43567\, US
DESCRIPTION:Wauseon Schools!
URL:https://www.amlinauctions.com/auctions/detail/bw128857
SEQUENCE:1
END:VEVENT
END:VCALENDAR